BEGIN:VCALENDAR
VERSION:2.0
PRODID:-//One Climate Future - ECPv6.15.20//NONSGML v1.0//EN
CALSCALE:GREGORIAN
METHOD:PUBLISH
X-ORIGINAL-URL:https://www.oneclimatefuture.org
X-WR-CALDESC:Events for One Climate Future
REFRESH-INTERVAL;VALUE=DURATION:PT1H
X-Robots-Tag:noindex
X-PUBLISHED-TTL:PT1H
BEGIN:VTIMEZONE
TZID:America/New_York
BEGIN:DAYLIGHT
TZOFFSETFROM:-0500
TZOFFSETTO:-0400
TZNAME:EDT
DTSTART:20240310T070000
END:DAYLIGHT
BEGIN:STANDARD
TZOFFSETFROM:-0400
TZOFFSETTO:-0500
TZNAME:EST
DTSTART:20241103T060000
END:STANDARD
BEGIN:DAYLIGHT
TZOFFSETFROM:-0500
TZOFFSETTO:-0400
TZNAME:EDT
DTSTART:20250309T070000
END:DAYLIGHT
BEGIN:STANDARD
TZOFFSETFROM:-0400
TZOFFSETTO:-0500
TZNAME:EST
DTSTART:20251102T060000
END:STANDARD
BEGIN:DAYLIGHT
TZOFFSETFROM:-0500
TZOFFSETTO:-0400
TZNAME:EDT
DTSTART:20260308T070000
END:DAYLIGHT
BEGIN:STANDARD
TZOFFSETFROM:-0400
TZOFFSETTO:-0500
TZNAME:EST
DTSTART:20261101T060000
END:STANDARD
END:VTIMEZONE
BEGIN:VEVENT
DTSTART;TZID=America/New_York:20250411T090000
DTEND;TZID=America/New_York:20250411T100000
DTSTAMP:20260419T085403
CREATED:20250103T162643Z
LAST-MODIFIED:20260309T183556Z
UID:5394-1744362000-1744365600@www.oneclimatefuture.org
SUMMARY:Coffee & Climate: Introduction to Charging the Region
DESCRIPTION:On Friday\, April 11\, 2025\, the One Climate Future team was joined by Jon Gagne and Laura Qualey of the Greater Portland Council of Governments to discuss the “Charging the Region” initiative. The project intends to make it easier to drive electric vehicles in our region by using transportation data and public input to identify locations for new electric vehicle charging stations. Learn more about how GPCOG is identifying barriers to EV adoption\, developing solutions\, and how this will contribute to our goal of reducing transportation-related emissions in Maine 70% by 2045. \nWatch the recording of this Coffee & Climate or read our newsletter from that month. \n 
URL:https://www.oneclimatefuture.org/event/coffee-climate-mode-shift/
LOCATION:Online Zoom Room
CATEGORIES:Coffee and Climate
END:VEVENT
END:VCALENDAR