BEGIN:VCALENDAR
VERSION:2.0
PRODID:-//One Climate Future - ECPv6.15.20//NONSGML v1.0//EN
CALSCALE:GREGORIAN
METHOD:PUBLISH
X-WR-CALNAME:One Climate Future
X-ORIGINAL-URL:https://www.oneclimatefuture.org
X-WR-CALDESC:Events for One Climate Future
REFRESH-INTERVAL;VALUE=DURATION:PT1H
X-Robots-Tag:noindex
X-PUBLISHED-TTL:PT1H
BEGIN:VTIMEZONE
TZID:America/New_York
BEGIN:DAYLIGHT
TZOFFSETFROM:-0500
TZOFFSETTO:-0400
TZNAME:EDT
DTSTART:20240310T070000
END:DAYLIGHT
BEGIN:STANDARD
TZOFFSETFROM:-0400
TZOFFSETTO:-0500
TZNAME:EST
DTSTART:20241103T060000
END:STANDARD
BEGIN:DAYLIGHT
TZOFFSETFROM:-0500
TZOFFSETTO:-0400
TZNAME:EDT
DTSTART:20250309T070000
END:DAYLIGHT
BEGIN:STANDARD
TZOFFSETFROM:-0400
TZOFFSETTO:-0500
TZNAME:EST
DTSTART:20251102T060000
END:STANDARD
BEGIN:DAYLIGHT
TZOFFSETFROM:-0500
TZOFFSETTO:-0400
TZNAME:EDT
DTSTART:20260308T070000
END:DAYLIGHT
BEGIN:STANDARD
TZOFFSETFROM:-0400
TZOFFSETTO:-0500
TZNAME:EST
DTSTART:20261101T060000
END:STANDARD
END:VTIMEZONE
BEGIN:VEVENT
DTSTART;TZID=America/New_York:20250214T090000
DTEND;TZID=America/New_York:20250214T100000
DTSTAMP:20260423T041842
CREATED:20250103T162445Z
LAST-MODIFIED:20260309T183333Z
UID:5390-1739523600-1739527200@www.oneclimatefuture.org
SUMMARY:Coffee & Climate: An Introduction to the Regional Electrical Grid with ISO-New England
DESCRIPTION:On Friday\, February 14th\, 2025 the One Climate Future Team was joined by Melissa Winne\, ISO-New England. Together we discussed our ISO-NE’s three critical roles of grid operation\, market administration\, and power system planning. \nWatch the recording of this Coffee & Climate or read our newsletter from that month.
URL:https://www.oneclimatefuture.org/event/coffee-climate-how-the-grid-works/
LOCATION:Online Zoom Room
CATEGORIES:Coffee and Climate
END:VEVENT
END:VCALENDAR